BEGIN:VCALENDAR
VERSION:2.0
PRODID:-//EXPN Bowling Match Play - ECPv6.15.20//NONSGML v1.0//EN
CALSCALE:GREGORIAN
METHOD:PUBLISH
X-WR-CALNAME:EXPN Bowling Match Play
X-ORIGINAL-URL:https://expnbowlingmatchplay.com
X-WR-CALDESC:Events for EXPN Bowling Match Play
REFRESH-INTERVAL;VALUE=DURATION:PT1H
X-Robots-Tag:noindex
X-PUBLISHED-TTL:PT1H
BEGIN:VTIMEZONE
TZID:UTC
BEGIN:STANDARD
TZOFFSETFROM:+0000
TZOFFSETTO:+0000
TZNAME:UTC
DTSTART:20240101T000000
END:STANDARD
END:VTIMEZONE
BEGIN:VEVENT
DTSTART;TZID=UTC:20251109T090000
DTEND;TZID=UTC:20251109T173000
DTSTAMP:20260425T170454
CREATED:20251023T070615Z
LAST-MODIFIED:20251023T070711Z
UID:10827-1762678800-1762709400@expnbowlingmatchplay.com
SUMMARY:Double This Double That  🎳
DESCRIPTION:EXPN Bowling Match Play Presents Doubles Match🎳\n\nTroy & Prime vs Fatz &Baker\n\n  \nCatch it on YouTube Live \nhttps://www.youtube.com/@expnbowlingmatchplay/streams \nDont miss it!💯
URL:https://expnbowlingmatchplay.com/event/doubled-down%f0%9f%8e%b3-%f0%9f%91%ac%f0%9f%8f%bevs%f0%9f%91%ac%f0%9f%8f%be-2/
LOCATION:Gardena Bowl\, 15707 S Vermont Ave\, Gardena\, CA\, 90247\, United States
CATEGORIES:Doubles Matches
ATTACH;FMTTYPE=image/png:https://expnbowlingmatchplay.com/wp-content/uploads/2024/06/EXPN-Logo-Download-Canva.png
ORGANIZER;CN="David Terrell":MAILTO:hello@EXPNBowlingMatchPlay.com
END:VEVENT
BEGIN:VEVENT
DTSTART;TZID=UTC:20250907T090000
DTEND;TZID=UTC:20250907T173000
DTSTAMP:20260425T170454
CREATED:20250823T211804Z
LAST-MODIFIED:20250823T212039Z
UID:10794-1757235600-1757266200@expnbowlingmatchplay.com
SUMMARY:Doubled down🎳 👬🏾vs👬🏾
DESCRIPTION:EXPN Bowling Match Play Presents Doubles Match🎳\n\nTroy Brooks & Deon Griffin VS Douglas Harris III & Marquise Dj-fatz Richardson\n4 Gamer on da wood\n\n \nCatch it on YouTube Live \nhttps://www.youtube.com/@expnbowlingmatchplay/streams \nDont miss it!💯
URL:https://expnbowlingmatchplay.com/event/doubled-down%f0%9f%8e%b3-%f0%9f%91%ac%f0%9f%8f%bevs%f0%9f%91%ac%f0%9f%8f%be/
LOCATION:Gardena Bowl\, 15707 S Vermont Ave\, Gardena\, CA\, 90247\, United States
CATEGORIES:Doubles Matches
ATTACH;FMTTYPE=image/png:https://expnbowlingmatchplay.com/wp-content/uploads/2025/08/Screenshot-2025-08-23-at-2.13.07-PM.png
ORGANIZER;CN="David Terrell":MAILTO:hello@EXPNBowlingMatchPlay.com
END:VEVENT
BEGIN:VEVENT
DTSTART;TZID=UTC:20250813T150000
DTEND;TZID=UTC:20250813T173000
DTSTAMP:20260425T170454
CREATED:20250813T195721Z
LAST-MODIFIED:20250818T200344Z
UID:10784-1755097200-1755106200@expnbowlingmatchplay.com
SUMMARY:Locked and Loaded🎳 Backup on the Way!
DESCRIPTION:EXPN Bowling Match Play Presents Doubles Match🎳\n🎳GET OUTTA TOWN🎳\n\nMike Villarreal\,Alan Steinberg vs Marquise Dj-fatz Richardson\, Jay Bus Rodriguez Jr.\nIt’s a Loaded set\, and they are ready to fire!\n\n \nCatch it on YouTube Live \nhttps://www.youtube.com/@expnbowlingmatchplay/streams \nDont miss it!💯
URL:https://expnbowlingmatchplay.com/event/lockedinandloaded/
LOCATION:Gardena Bowl\, 15707 S Vermont Ave\, Gardena\, CA\, 90247\, United States
CATEGORIES:Doubles Matches
ATTACH;FMTTYPE=image/jpeg:https://expnbowlingmatchplay.com/wp-content/uploads/2025/08/Image-8-18-25-at-12.45-PM.jpeg
ORGANIZER;CN="David Terrell":MAILTO:hello@EXPNBowlingMatchPlay.com
END:VEVENT
BEGIN:VEVENT
DTSTART;TZID=UTC:20250805T143000
DTEND;TZID=UTC:20250805T163000
DTSTAMP:20260425T170454
CREATED:20250805T184058Z
LAST-MODIFIED:20250805T184138Z
UID:10768-1754404200-1754411400@expnbowlingmatchplay.com
SUMMARY:First-Timer Faceoff🎳
DESCRIPTION:EXPN Bowling Match Play Presents Doubles Match🎳\nFirst-Timer Faceoff…\nBaker and Dream hit the platform VS K-Mack & Aubrey \n\nCatch it on YouTube Live \nhttps://www.youtube.com/@expnbowlingmatchplay/streams \nDont miss it!💯
URL:https://expnbowlingmatchplay.com/event/first-timer-faceoff/
LOCATION:Gardena Bowl\, 15707 S Vermont Ave\, Gardena\, CA\, 90247\, United States
CATEGORIES:Doubles Matches
ATTACH;FMTTYPE=image/jpeg:https://expnbowlingmatchplay.com/wp-content/uploads/2025/08/Image-8-5-25-at-11.33-AM-e1754419029538.jpeg
ORGANIZER;CN="David Terrell":MAILTO:hello@EXPNBowlingMatchPlay.com
END:VEVENT
BEGIN:VEVENT
DTSTART;TZID=UTC:20250803T090000
DTEND;TZID=UTC:20250803T230000
DTSTAMP:20260425T170454
CREATED:20250803T210921Z
LAST-MODIFIED:20250803T211043Z
UID:10765-1754211600-1754262000@expnbowlingmatchplay.com
SUMMARY:A Team Hustle👫🏽🎳
DESCRIPTION:EXPN Bowling Match Play Presents Doubles Match:\n Mixed Showdown feat. Gail & Bang vs TC & Fatz  \n \nCatch it on YouTube Live👇🏾 \nhttps://www.youtube.com/@expnbowlingmatchplay/streams \nDont miss it!💯
URL:https://expnbowlingmatchplay.com/event/a-team-hustle%f0%9f%91%ab%f0%9f%8f%bd%f0%9f%8e%b3/
LOCATION:Gardena Bowl\, 15707 S Vermont Ave\, Gardena\, CA\, 90247\, United States
CATEGORIES:Doubles Matches
ATTACH;FMTTYPE=image/jpeg:https://expnbowlingmatchplay.com/wp-content/uploads/2025/08/Image-1.jpeg
ORGANIZER;CN="David Terrell":MAILTO:hello@EXPNBowlingMatchPlay.com
END:VEVENT
BEGIN:VEVENT
DTSTART;TZID=UTC:20250709T150000
DTEND;TZID=UTC:20250709T190000
DTSTAMP:20260425T170454
CREATED:20250709T015553Z
LAST-MODIFIED:20250709T022058Z
UID:10725-1752073200-1752087600@expnbowlingmatchplay.com
SUMMARY:Two Wrongs Dont Make it Right ❌🎳
DESCRIPTION:EXPN Bowling Match Play Presents Doubles Match:\n👉🏾Prime Time & Hood vs Fatz & Stephan Baker\n1.2k Offered Up🤯 \nCatch it on YouTube Live👇🏾 \nhttps://www.youtube.com/@expnbowlingmatchplay/streams \n \nWednesday\, July 9th at 3 pm… \nDont miss it!💯
URL:https://expnbowlingmatchplay.com/event/prime-time-hood-vs-fatz-stephan-baker-%f0%9f%8e%b3/
LOCATION:Gardena Bowl\, 15707 S Vermont Ave\, Gardena\, CA\, 90247\, United States
CATEGORIES:Doubles Matches
ATTACH;FMTTYPE=image/jpeg:https://expnbowlingmatchplay.com/wp-content/uploads/2025/07/IMG_4938.jpeg
ORGANIZER;CN="David Terrell":MAILTO:hello@EXPNBowlingMatchPlay.com
END:VEVENT
BEGIN:VEVENT
DTSTART;TZID=UTC:20250525T114500
DTEND;TZID=UTC:20250525T140000
DTSTAMP:20260425T170454
CREATED:20250515T015205Z
LAST-MODIFIED:20250521T203356Z
UID:10698-1748173500-1748181600@expnbowlingmatchplay.com
SUMMARY:Julien White & Roman Lewis vs LeAndre Minor Jr & Teesus Tooles (Sweet T) 🎳
DESCRIPTION:EXPN Bowling Match Play Presents Doubles Match:\n👉🏾 Julien White & Roman Lewis vs LeAndre Minor Jr & Teesus Tooles (Sweet T)\nCatch it on YouTube Live 👉🏾:  https://www.youtube.com/@expnbowlingmatchplay/streams\n 
URL:https://expnbowlingmatchplay.com/event/julien-white-roman-lewis-vs-leandre-minor-jr-teesus-tooles-sweet-t-%f0%9f%8e%b3/
LOCATION:Gardena Bowl\, 15707 S Vermont Ave\, Gardena\, CA\, 90247\, United States
CATEGORIES:Doubles Matches
ATTACH;FMTTYPE=image/png:https://expnbowlingmatchplay.com/wp-content/uploads/2025/05/Julian-Doubles-1-e1747624916635.png
ORGANIZER;CN="David Terrell":MAILTO:hello@EXPNBowlingMatchPlay.com
END:VEVENT
BEGIN:VEVENT
DTSTART;TZID=UTC:20250525T090000
DTEND;TZID=UTC:20250525T110000
DTSTAMP:20260425T170454
CREATED:20250515T014436Z
LAST-MODIFIED:20250521T203202Z
UID:10695-1748163600-1748170800@expnbowlingmatchplay.com
SUMMARY:Darryl Mickens & Shawn Gardner vs. Kevin Mac & Aubrey Harrison 🎳
DESCRIPTION:EXPN Bowling Match Play Presents Doubles Match:\n👉🏾 Darryl Mickens & Shawn Gardner vs. Kevin Mac & Aubrey Harrison\nCatch it on YouTube Live 👉🏾:  https://www.youtube.com/@expnbowlingmatchplay/streams\n  \n \n 
URL:https://expnbowlingmatchplay.com/event/darryl-mickens-shawn-gardner-vs-kevin-mac-aubrey-harrison-%f0%9f%8e%b3/
LOCATION:Gardena Bowl\, 15707 S Vermont Ave\, Gardena\, CA\, 90247\, United States
CATEGORIES:Doubles Matches
ATTACH;FMTTYPE=image/png:https://expnbowlingmatchplay.com/wp-content/uploads/2025/05/Aubrey-Doubles-Match.png
ORGANIZER;CN="David Terrell":MAILTO:hello@EXPNBowlingMatchPlay.com
END:VEVENT
END:VCALENDAR